BEGIN:VCALENDAR
VERSION:2.0
PRODID:floktu.com
X-WR-TIMEZONE:Australia/Sydney
X-PUBLISHED-TTL:P1W
BEGIN:VEVENT
UID:FloktuEvent27439@floktu.com
DTSTART;TZID=Australia/Sydney:20210413T090000
SEQUENCE:0
TRANSP:OPAQUE
DTEND;TZID=Australia/Sydney:20210413T153000
LOCATION:Hillsley Visual Arts and Hospitality Complex\, 10 Noel Street\, Iv
 anhoe\, VIC
SUMMARY:Easter Code Cafe (Senior) Ivanhoe
DESCRIPTION:Visit https://ecs-ivanhoe21.floktu.com for more information.
DTSTAMP:20260425T050405Z
END:VEVENT
BEGIN:VTIMEZONE
TZID:Australia/Sydney
X-LIC-LOCATION:Australia/Sydney
END:VTIMEZONE
END:VCALENDAR