BEGIN:VCALENDAR
VERSION:2.0
PRODID:floktu.com
X-PUBLISHED-TTL:P1W
BEGIN:VEVENT
UID:FloktuEvent27439@floktu.com
DTSTART:20210412T230000Z
SEQUENCE:0
TRANSP:OPAQUE
DTEND:20210413T053000Z
LOCATION:Hillsley Visual Arts and Hospitality Complex\, 10 Noel Street\, Iv
 anhoe\, VIC
SUMMARY:Easter Code Cafe (Senior) Ivanhoe
DESCRIPTION:Visit https://ecs-ivanhoe21.floktu.com for more information.
DTSTAMP:20260425T051021Z
END:VEVENT
END:VCALENDAR